BEGIN:VCALENDAR
VERSION:2.0
PRODID:-//Theodor Storm Schule - ECPv6.0.1.1//NONSGML v1.0//EN
CALSCALE:GREGORIAN
METHOD:PUBLISH
X-ORIGINAL-URL:https://tss-badoldesloe.de
X-WR-CALDESC:Events for Theodor Storm Schule
REFRESH-INTERVAL;VALUE=DURATION:PT1H
X-Robots-Tag:noindex
X-PUBLISHED-TTL:PT1H
BEGIN:VTIMEZONE
TZID:Europe/Berlin
BEGIN:DAYLIGHT
TZOFFSETFROM:+0100
TZOFFSETTO:+0200
TZNAME:CEST
DTSTART:20230326T010000
END:DAYLIGHT
BEGIN:STANDARD
TZOFFSETFROM:+0200
TZOFFSETTO:+0100
TZNAME:CET
DTSTART:20231029T010000
END:STANDARD
END:VTIMEZONE
BEGIN:VEVENT
DTSTART;TZID=Europe/Berlin:20230918T075000
DTEND;TZID=Europe/Berlin:20230922T130000
DTSTAMP:20260423T012250
CREATED:20230906T141327Z
LAST-MODIFIED:20230906T141327Z
UID:3526-1695023400-1695387600@tss-badoldesloe.de
SUMMARY:Vorhabenwoche vom 18. bis 22. September 2023
DESCRIPTION:
URL:https://tss-badoldesloe.de/event/vorhabenwoche-vom-18-bis-22-september-2023/
END:VEVENT
BEGIN:VEVENT
DTSTART;VALUE=DATE:20230921
DTEND;VALUE=DATE:20231013
DTSTAMP:20260423T012250
CREATED:20221004T184409Z
LAST-MODIFIED:20231027T113211Z
UID:2665-1695254400-1697155199@tss-badoldesloe.de
SUMMARY:4. Praktikum FLEX 9plus
DESCRIPTION:
URL:https://tss-badoldesloe.de/event/4-betriebspraktikum-klasse-9-flex-plus/
END:VEVENT
END:VCALENDAR