BEGIN:VCALENDAR
VERSION:2.0
PRODID:-//Theodor Storm Schule - ECPv6.0.1.1//NONSGML v1.0//EN
CALSCALE:GREGORIAN
METHOD:PUBLISH
X-ORIGINAL-URL:https://tss-badoldesloe.de
X-WR-CALDESC:Events for Theodor Storm Schule
REFRESH-INTERVAL;VALUE=DURATION:PT1H
X-Robots-Tag:noindex
X-PUBLISHED-TTL:PT1H
BEGIN:VTIMEZONE
TZID:Europe/Berlin
BEGIN:DAYLIGHT
TZOFFSETFROM:+0100
TZOFFSETTO:+0200
TZNAME:CEST
DTSTART:20230326T010000
END:DAYLIGHT
BEGIN:STANDARD
TZOFFSETFROM:+0200
TZOFFSETTO:+0100
TZNAME:CET
DTSTART:20231029T010000
END:STANDARD
END:VTIMEZONE
BEGIN:VEVENT
DTSTART;VALUE=DATE:20231030
DTEND;VALUE=DATE:20231111
DTSTAMP:20260423T001200
CREATED:20221004T183703Z
LAST-MODIFIED:20231027T113239Z
UID:2655-1698624000-1699660799@tss-badoldesloe.de
SUMMARY:Betriebspraktikum Klassen 9abcd
DESCRIPTION:
URL:https://tss-badoldesloe.de/event/betriebspraktikum-9abc/
END:VEVENT
BEGIN:VEVENT
DTSTART;VALUE=DATE:20231101
DTEND;VALUE=DATE:20231125
DTSTAMP:20260423T001200
CREATED:20221004T184120Z
LAST-MODIFIED:20231027T113409Z
UID:2661-1698796800-1700870399@tss-badoldesloe.de
SUMMARY:2. Praktikum FLEX 9
DESCRIPTION:
URL:https://tss-badoldesloe.de/event/2-betriebspraktikum-klasse-flex-9/
END:VEVENT
BEGIN:VEVENT
DTSTART;TZID=Europe/Berlin:20231106T190000
DTEND;TZID=Europe/Berlin:20231106T200000
DTSTAMP:20260423T001200
CREATED:20231027T102739Z
LAST-MODIFIED:20231027T102739Z
UID:3639-1699297200-1699300800@tss-badoldesloe.de
SUMMARY:Schulkonferenz 6.11.2023 19:00 Uhr
DESCRIPTION:
URL:https://tss-badoldesloe.de/event/schulkonferenz-6-11-2023-1900-uhr/
LOCATION:Aula A001\, asasasas\, Bad Oldesloe\, 23843\, Deutschland
END:VEVENT
END:VCALENDAR