BEGIN:VCALENDAR
VERSION:2.0
PRODID:-//Theodor Storm Schule - ECPv6.0.1.1//NONSGML v1.0//EN
CALSCALE:GREGORIAN
METHOD:PUBLISH
X-ORIGINAL-URL:https://tss-badoldesloe.de
X-WR-CALDESC:Events for Theodor Storm Schule
REFRESH-INTERVAL;VALUE=DURATION:PT1H
X-Robots-Tag:noindex
X-PUBLISHED-TTL:PT1H
BEGIN:VTIMEZONE
TZID:Europe/Berlin
BEGIN:DAYLIGHT
TZOFFSETFROM:+0100
TZOFFSETTO:+0200
TZNAME:CEST
DTSTART:20240331T010000
END:DAYLIGHT
BEGIN:STANDARD
TZOFFSETFROM:+0200
TZOFFSETTO:+0100
TZNAME:CET
DTSTART:20241027T010000
END:STANDARD
END:VTIMEZONE
BEGIN:VEVENT
DTSTART;TZID=Europe/Berlin:20240126T080000
DTEND;TZID=Europe/Berlin:20240126T093000
DTSTAMP:20260422T185323
CREATED:20231027T112109Z
LAST-MODIFIED:20231027T115517Z
UID:3656-1706256000-1706261400@tss-badoldesloe.de
SUMMARY:PRÜFUNG Abgabe Projektarbeit für JG9
DESCRIPTION:
URL:https://tss-badoldesloe.de/event/abgabe-projektarbeit-fuer-jg9/
END:VEVENT
BEGIN:VEVENT
DTSTART;TZID=Europe/Berlin:20240126T080000
DTEND;TZID=Europe/Berlin:20240126T102500
DTSTAMP:20260422T185323
CREATED:20231027T105032Z
LAST-MODIFIED:20231027T105032Z
UID:3654-1706256000-1706264700@tss-badoldesloe.de
SUMMARY:Zeugnistag 26.01.24
DESCRIPTION:
URL:https://tss-badoldesloe.de/event/zeugnistag-26-01-24/
END:VEVENT
END:VCALENDAR