BEGIN:VCALENDAR
VERSION:2.0
PRODID:-//Theodor Storm Schule - ECPv6.0.1.1//NONSGML v1.0//EN
CALSCALE:GREGORIAN
METHOD:PUBLISH
X-WR-CALNAME:Theodor Storm Schule
X-ORIGINAL-URL:https://tss-badoldesloe.de
X-WR-CALDESC:Events for Theodor Storm Schule
REFRESH-INTERVAL;VALUE=DURATION:PT1H
X-Robots-Tag:noindex
X-PUBLISHED-TTL:PT1H
BEGIN:VTIMEZONE
TZID:Europe/Berlin
BEGIN:DAYLIGHT
TZOFFSETFROM:+0100
TZOFFSETTO:+0200
TZNAME:CEST
DTSTART:20240331T010000
END:DAYLIGHT
BEGIN:STANDARD
TZOFFSETFROM:+0200
TZOFFSETTO:+0100
TZNAME:CET
DTSTART:20241027T010000
END:STANDARD
END:VTIMEZONE
BEGIN:VEVENT
DTSTART;VALUE=DATE:20240201
DTEND;VALUE=DATE:20240329
DTSTAMP:20260422T161115
CREATED:20240104T103049Z
LAST-MODIFIED:20240104T103049Z
UID:3962-1706745600-1711670399@tss-badoldesloe.de
SUMMARY:Anmeldezeitraum für die kommende FLEX-Maßnahme (2024-2027)
DESCRIPTION:Informationen zur FLEX
URL:https://tss-badoldesloe.de/event/anmeldezeitraum-fuer-die-kommende-flex-massnahme-2024-2027/
END:VEVENT
END:VCALENDAR