BEGIN:VCALENDAR
VERSION:2.0
PRODID:-//Theodor Storm Schule - ECPv6.0.1.1//NONSGML v1.0//EN
CALSCALE:GREGORIAN
METHOD:PUBLISH
X-WR-CALNAME:Theodor Storm Schule
X-ORIGINAL-URL:https://tss-badoldesloe.de
X-WR-CALDESC:Events for Theodor Storm Schule
REFRESH-INTERVAL;VALUE=DURATION:PT1H
X-Robots-Tag:noindex
X-PUBLISHED-TTL:PT1H
BEGIN:VTIMEZONE
TZID:Europe/Berlin
BEGIN:DAYLIGHT
TZOFFSETFROM:+0100
TZOFFSETTO:+0200
TZNAME:CEST
DTSTART:20240331T010000
END:DAYLIGHT
BEGIN:STANDARD
TZOFFSETFROM:+0200
TZOFFSETTO:+0100
TZNAME:CET
DTSTART:20241027T010000
END:STANDARD
END:VTIMEZONE
BEGIN:VEVENT
DTSTART;VALUE=DATE:20240603
DTEND;VALUE=DATE:20240604
DTSTAMP:20260422T103356
CREATED:20231027T114850Z
LAST-MODIFIED:20231027T114850Z
UID:3701-1717372800-1717459199@tss-badoldesloe.de
SUMMARY:Nachschreibtermin ESA/MSA Deutsch
DESCRIPTION:
URL:https://tss-badoldesloe.de/event/nachschreibtermin-esa-msa-deutsch/
END:VEVENT
BEGIN:VEVENT
DTSTART;TZID=Europe/Berlin:20240603T190000
DTEND;TZID=Europe/Berlin:20240603T200000
DTSTAMP:20260422T103356
CREATED:20231027T114712Z
LAST-MODIFIED:20231027T114712Z
UID:3699-1717441200-1717444800@tss-badoldesloe.de
SUMMARY:Schulkonferenz 03.06.2024 19:00 Uhr
DESCRIPTION:
URL:https://tss-badoldesloe.de/event/schulkonferenz-03-06-2024-1900-uhr/
END:VEVENT
END:VCALENDAR