BEGIN:VCALENDAR
VERSION:2.0
PRODID:-//Theodor Storm Schule - ECPv6.0.1.1//NONSGML v1.0//EN
CALSCALE:GREGORIAN
METHOD:PUBLISH
X-WR-CALNAME:Theodor Storm Schule
X-ORIGINAL-URL:https://tss-badoldesloe.de
X-WR-CALDESC:Events for Theodor Storm Schule
REFRESH-INTERVAL;VALUE=DURATION:PT1H
X-Robots-Tag:noindex
X-PUBLISHED-TTL:PT1H
BEGIN:VTIMEZONE
TZID:Europe/Berlin
BEGIN:DAYLIGHT
TZOFFSETFROM:+0100
TZOFFSETTO:+0200
TZNAME:CEST
DTSTART:20240331T010000
END:DAYLIGHT
BEGIN:STANDARD
TZOFFSETFROM:+0200
TZOFFSETTO:+0100
TZNAME:CET
DTSTART:20241027T010000
END:STANDARD
END:VTIMEZONE
BEGIN:VEVENT
DTSTART;VALUE=DATE:20240624
DTEND;VALUE=DATE:20240713
DTSTAMP:20260422T085131
CREATED:20221004T184228Z
LAST-MODIFIED:20231027T112839Z
UID:2663-1719187200-1720828799@tss-badoldesloe.de
SUMMARY:3. Praktikum FLEX 9
DESCRIPTION:
URL:https://tss-badoldesloe.de/event/3-betriebspraktikum-klasse-flex-9/
END:VEVENT
BEGIN:VEVENT
DTSTART;VALUE=DATE:20240710
DTEND;VALUE=DATE:20240711
DTSTAMP:20260422T085131
CREATED:20231027T120334Z
LAST-MODIFIED:20231027T120334Z
UID:3730-1720569600-1720655999@tss-badoldesloe.de
SUMMARY:Entlassungsfeier
DESCRIPTION:
URL:https://tss-badoldesloe.de/event/entlassungsfeier/
LOCATION:Festhalle IES
END:VEVENT
END:VCALENDAR