BEGIN:VCALENDAR
VERSION:2.0
PRODID:-//Theodor Storm Schule - ECPv6.0.1.1//NONSGML v1.0//EN
CALSCALE:GREGORIAN
METHOD:PUBLISH
X-WR-CALNAME:Theodor Storm Schule
X-ORIGINAL-URL:https://tss-badoldesloe.de
X-WR-CALDESC:Events for Theodor Storm Schule
REFRESH-INTERVAL;VALUE=DURATION:PT1H
X-Robots-Tag:noindex
X-PUBLISHED-TTL:PT1H
BEGIN:VTIMEZONE
TZID:Europe/Berlin
BEGIN:DAYLIGHT
TZOFFSETFROM:+0100
TZOFFSETTO:+0200
TZNAME:CEST
DTSTART:20240331T010000
END:DAYLIGHT
BEGIN:STANDARD
TZOFFSETFROM:+0200
TZOFFSETTO:+0100
TZNAME:CET
DTSTART:20241027T010000
END:STANDARD
END:VTIMEZONE
BEGIN:VEVENT
DTSTART;VALUE=DATE:20241125
DTEND;VALUE=DATE:20241130
DTSTAMP:20260421T221904
CREATED:20240723T110747Z
LAST-MODIFIED:20240723T110747Z
UID:4283-1732492800-1732924799@tss-badoldesloe.de
SUMMARY:Woche der Beruflichen Bildung
DESCRIPTION:
URL:https://tss-badoldesloe.de/event/woche-der-beruflichen-bildung/
END:VEVENT
BEGIN:VEVENT
DTSTART;VALUE=DATE:20241128
DTEND;VALUE=DATE:20241130
DTSTAMP:20260421T221904
CREATED:20240723T111129Z
LAST-MODIFIED:20240723T111129Z
UID:4289-1732752000-1732924799@tss-badoldesloe.de
SUMMARY:JG7: Präventionsveranstaltung (Essstörungen)
DESCRIPTION:
URL:https://tss-badoldesloe.de/event/jg7-praeventionsveranstaltung-essstoerungen/
END:VEVENT
BEGIN:VEVENT
DTSTART;TZID=Europe/Berlin:20241128T080000
DTEND;TZID=Europe/Berlin:20241128T160000
DTSTAMP:20260421T221904
CREATED:20240723T111026Z
LAST-MODIFIED:20240723T111026Z
UID:4287-1732780800-1732809600@tss-badoldesloe.de
SUMMARY:FLEX9plus: Beginn der wöchentlichen Praktikumstage (bis 10. April 2025)
DESCRIPTION:
URL:https://tss-badoldesloe.de/event/flex9plus-beginn-der-woechentlichen-praktikumstage-bis-10-april-2025/
END:VEVENT
BEGIN:VEVENT
DTSTART;TZID=Europe/Berlin:20241128T150000
DTEND;TZID=Europe/Berlin:20241128T180000
DTSTAMP:20260421T221904
CREATED:20241009T161615Z
LAST-MODIFIED:20241009T161615Z
UID:4527-1732806000-1732816800@tss-badoldesloe.de
SUMMARY:Adventsbasar
DESCRIPTION:
URL:https://tss-badoldesloe.de/event/adventsbasar/
END:VEVENT
END:VCALENDAR