BEGIN:VCALENDAR
VERSION:2.0
PRODID:-//Theodor Storm Schule - ECPv6.0.1.1//NONSGML v1.0//EN
CALSCALE:GREGORIAN
METHOD:PUBLISH
X-ORIGINAL-URL:https://tss-badoldesloe.de
X-WR-CALDESC:Events for Theodor Storm Schule
REFRESH-INTERVAL;VALUE=DURATION:PT1H
X-Robots-Tag:noindex
X-PUBLISHED-TTL:PT1H
BEGIN:VTIMEZONE
TZID:Europe/Berlin
BEGIN:DAYLIGHT
TZOFFSETFROM:+0100
TZOFFSETTO:+0200
TZNAME:CEST
DTSTART:20240331T010000
END:DAYLIGHT
BEGIN:STANDARD
TZOFFSETFROM:+0200
TZOFFSETTO:+0100
TZNAME:CET
DTSTART:20241027T010000
END:STANDARD
END:VTIMEZONE
BEGIN:VEVENT
DTSTART;TZID=Europe/Berlin:20241209T153000
DTEND;TZID=Europe/Berlin:20241209T180000
DTSTAMP:20260421T210030
CREATED:20240723T111223Z
LAST-MODIFIED:20240723T111223Z
UID:4291-1733758200-1733767200@tss-badoldesloe.de
SUMMARY:Lehrerkonferenz
DESCRIPTION:
URL:https://tss-badoldesloe.de/event/lehrerkonferenz/
END:VEVENT
BEGIN:VEVENT
DTSTART;TZID=Europe/Berlin:20241209T190000
DTEND;TZID=Europe/Berlin:20241209T200000
DTSTAMP:20260421T210030
CREATED:20241116T095840Z
LAST-MODIFIED:20241116T095840Z
UID:4584-1733770800-1733774400@tss-badoldesloe.de
SUMMARY:SCHULVEREIN Mitgliederversammlung mit Vorstandswahl oder Vereinsauflösung
DESCRIPTION:
URL:https://tss-badoldesloe.de/event/schulverein-mitgliederversammlung-mit-vorstandswahl-oder-vereinsaufloesung/
LOCATION:Raum D001\, Olivet-Allee 15\, Bad Oldesloe\, 23843\, Germany
END:VEVENT
END:VCALENDAR