BEGIN:VCALENDAR
VERSION:2.0
PRODID:-//Theodor Storm Schule - ECPv6.0.1.1//NONSGML v1.0//EN
CALSCALE:GREGORIAN
METHOD:PUBLISH
X-ORIGINAL-URL:https://tss-badoldesloe.de
X-WR-CALDESC:Events for Theodor Storm Schule
REFRESH-INTERVAL;VALUE=DURATION:PT1H
X-Robots-Tag:noindex
X-PUBLISHED-TTL:PT1H
BEGIN:VTIMEZONE
TZID:Europe/Berlin
BEGIN:DAYLIGHT
TZOFFSETFROM:+0100
TZOFFSETTO:+0200
TZNAME:CEST
DTSTART:20250330T010000
END:DAYLIGHT
BEGIN:STANDARD
TZOFFSETFROM:+0200
TZOFFSETTO:+0100
TZNAME:CET
DTSTART:20251026T010000
END:STANDARD
END:VTIMEZONE
BEGIN:VEVENT
DTSTART;VALUE=DATE:20250130
DTEND;VALUE=DATE:20250201
DTSTAMP:20260421T175822
CREATED:20240723T112206Z
LAST-MODIFIED:20240723T112206Z
UID:4309-1738195200-1738367999@tss-badoldesloe.de
SUMMARY:FLEX9plus: ACHTUNG keine wPt am 30.+31.01.2025 !!!
DESCRIPTION:
URL:https://tss-badoldesloe.de/event/flex9plus-achtung-keine-wpt-am-30-31-01-2025/
END:VEVENT
BEGIN:VEVENT
DTSTART;TZID=Europe/Berlin:20250130T080000
DTEND;TZID=Europe/Berlin:20250130T130000
DTSTAMP:20260421T175822
CREATED:20240723T112230Z
LAST-MODIFIED:20240723T112230Z
UID:4311-1738224000-1738242000@tss-badoldesloe.de
SUMMARY:JG9\, JG10 + FLEX9plus: Projekttag III zur Projektarbeit
DESCRIPTION:
URL:https://tss-badoldesloe.de/event/jg9-jg10-flex9plus-projekttag-iii-zur-projektarbeit/
END:VEVENT
END:VCALENDAR