BEGIN:VCALENDAR
VERSION:2.0
PRODID:-//Theodor Storm Schule - ECPv6.0.1.1//NONSGML v1.0//EN
CALSCALE:GREGORIAN
METHOD:PUBLISH
X-ORIGINAL-URL:https://tss-badoldesloe.de
X-WR-CALDESC:Events for Theodor Storm Schule
REFRESH-INTERVAL;VALUE=DURATION:PT1H
X-Robots-Tag:noindex
X-PUBLISHED-TTL:PT1H
BEGIN:VTIMEZONE
TZID:Europe/Berlin
BEGIN:DAYLIGHT
TZOFFSETFROM:+0100
TZOFFSETTO:+0200
TZNAME:CEST
DTSTART:20250330T010000
END:DAYLIGHT
BEGIN:STANDARD
TZOFFSETFROM:+0200
TZOFFSETTO:+0100
TZNAME:CET
DTSTART:20251026T010000
END:STANDARD
END:VTIMEZONE
BEGIN:VEVENT
DTSTART;VALUE=DATE:20250204
DTEND;VALUE=DATE:20250315
DTSTAMP:20260421T180023
CREATED:20240723T112732Z
LAST-MODIFIED:20240723T112824Z
UID:4319-1738627200-1741996799@tss-badoldesloe.de
SUMMARY:Anmeldezeitfenster für Oldesloes flexible Übergangsphase 2025-2028
DESCRIPTION:Weitere Informationen finden Sie hier: \nFlex-Klassen – Theodor Storm Schule (tss-badoldesloe.de)
URL:https://tss-badoldesloe.de/event/anmeldezeitfenster-fuer-oldesloes-flexible-uebergangsphase-2025-2028/
END:VEVENT
BEGIN:VEVENT
DTSTART;VALUE=DATE:20250205
DTEND;VALUE=DATE:20250301
DTSTAMP:20260421T180023
CREATED:20240723T112947Z
LAST-MODIFIED:20240723T112947Z
UID:4322-1738713600-1740787199@tss-badoldesloe.de
SUMMARY:individuelle Beratung der Grundschuleltern des neuen JG5 (05.02.-28.02.2025) - nach Terminvergabe
DESCRIPTION:
URL:https://tss-badoldesloe.de/event/individuelle-beratung-der-grundschuleltern-des-neuen-jg5-05-02-28-02-2025-nach-terminvergabe/
END:VEVENT
END:VCALENDAR