BEGIN:VCALENDAR
VERSION:2.0
PRODID:-//Theodor Storm Schule - ECPv6.0.1.1//NONSGML v1.0//EN
CALSCALE:GREGORIAN
METHOD:PUBLISH
X-WR-CALNAME:Theodor Storm Schule
X-ORIGINAL-URL:https://tss-badoldesloe.de
X-WR-CALDESC:Events for Theodor Storm Schule
REFRESH-INTERVAL;VALUE=DURATION:PT1H
X-Robots-Tag:noindex
X-PUBLISHED-TTL:PT1H
BEGIN:VTIMEZONE
TZID:Europe/Berlin
BEGIN:DAYLIGHT
TZOFFSETFROM:+0100
TZOFFSETTO:+0200
TZNAME:CEST
DTSTART:20240331T010000
END:DAYLIGHT
BEGIN:STANDARD
TZOFFSETFROM:+0200
TZOFFSETTO:+0100
TZNAME:CET
DTSTART:20241027T010000
END:STANDARD
END:VTIMEZONE
BEGIN:VEVENT
DTSTART;VALUE=DATE:20240501
DTEND;VALUE=DATE:20240502
DTSTAMP:20260422T103327
CREATED:20231027T113740Z
LAST-MODIFIED:20231027T113740Z
UID:3680-1714521600-1714607999@tss-badoldesloe.de
SUMMARY:1. Mai Feiertag
DESCRIPTION:
URL:https://tss-badoldesloe.de/event/1-mai-feiertag/
END:VEVENT
BEGIN:VEVENT
DTSTART;VALUE=DATE:20240508
DTEND;VALUE=DATE:20240509
DTSTAMP:20260422T103327
CREATED:20230407T065334Z
LAST-MODIFIED:20231027T112823Z
UID:3343-1715126400-1715212799@tss-badoldesloe.de
SUMMARY:Beweglicher Ferientag
DESCRIPTION:
URL:https://tss-badoldesloe.de/event/beweglicher-ferientag/
END:VEVENT
BEGIN:VEVENT
DTSTART;VALUE=DATE:20240508
DTEND;VALUE=DATE:20240513
DTSTAMP:20260422T103327
CREATED:20231027T114110Z
LAST-MODIFIED:20231027T114110Z
UID:3686-1715126400-1715558399@tss-badoldesloe.de
SUMMARY:langes freies Wochenende 8.-12.05.2024
DESCRIPTION:
URL:https://tss-badoldesloe.de/event/langes-freies-wochenende-8-12-05-2024/
END:VEVENT
BEGIN:VEVENT
DTSTART;VALUE=DATE:20240509
DTEND;VALUE=DATE:20240510
DTSTAMP:20260422T103327
CREATED:20231027T113932Z
LAST-MODIFIED:20231027T113932Z
UID:3684-1715212800-1715299199@tss-badoldesloe.de
SUMMARY:Christi Himmelfahrt
DESCRIPTION:
URL:https://tss-badoldesloe.de/event/christi-himmelfahrt/
END:VEVENT
BEGIN:VEVENT
DTSTART;VALUE=DATE:20240510
DTEND;VALUE=DATE:20240511
DTSTAMP:20260422T103327
CREATED:20231027T113843Z
LAST-MODIFIED:20231027T113843Z
UID:3682-1715299200-1715385599@tss-badoldesloe.de
SUMMARY:Ferientag
DESCRIPTION:
URL:https://tss-badoldesloe.de/event/ferientag/
END:VEVENT
BEGIN:VEVENT
DTSTART;VALUE=DATE:20240513
DTEND;VALUE=DATE:20240514
DTSTAMP:20260422T103327
CREATED:20231027T114304Z
LAST-MODIFIED:20231027T114321Z
UID:3688-1715558400-1715644799@tss-badoldesloe.de
SUMMARY:PRÜFUNG ESA/MSA Herkunftssprachen
DESCRIPTION:
URL:https://tss-badoldesloe.de/event/esa-msa-pruefung-herkunftssprachen/
END:VEVENT
BEGIN:VEVENT
DTSTART;VALUE=DATE:20240515
DTEND;VALUE=DATE:20240516
DTSTAMP:20260422T103327
CREATED:20231027T114404Z
LAST-MODIFIED:20231027T115209Z
UID:3691-1715731200-1715817599@tss-badoldesloe.de
SUMMARY:PRÜFUNG ESA Englisch / MSA Deutsch
DESCRIPTION:
URL:https://tss-badoldesloe.de/event/pruefung-esa-englisch-msa-mathematik/
END:VEVENT
BEGIN:VEVENT
DTSTART;VALUE=DATE:20240517
DTEND;VALUE=DATE:20240518
DTSTAMP:20260422T103327
CREATED:20231027T114437Z
LAST-MODIFIED:20231027T115223Z
UID:3693-1715904000-1715990399@tss-badoldesloe.de
SUMMARY:PRÜFUNG ESA Deutsch / MSA Mathematik
DESCRIPTION:
URL:https://tss-badoldesloe.de/event/pruefung-esa-deutsch-msa-englisch/
END:VEVENT
BEGIN:VEVENT
DTSTART;VALUE=DATE:20240518
DTEND;VALUE=DATE:20240521
DTSTAMP:20260422T103327
CREATED:20231027T114513Z
LAST-MODIFIED:20231027T114513Z
UID:3695-1715990400-1716249599@tss-badoldesloe.de
SUMMARY:Pfingsten
DESCRIPTION:
URL:https://tss-badoldesloe.de/event/pfingsten/
END:VEVENT
BEGIN:VEVENT
DTSTART;VALUE=DATE:20240522
DTEND;VALUE=DATE:20240523
DTSTAMP:20260422T103327
CREATED:20231027T115321Z
LAST-MODIFIED:20231027T115358Z
UID:3708-1716336000-1716422399@tss-badoldesloe.de
SUMMARY:PRÜFUNG ESA Mathematik / MSA Englisch
DESCRIPTION:
URL:https://tss-badoldesloe.de/event/pruefungen-esa-mathematik-msa-englisch/
END:VEVENT
BEGIN:VEVENT
DTSTART;VALUE=DATE:20240528
DTEND;VALUE=DATE:20240531
DTSTAMP:20260422T103327
CREATED:20231027T114619Z
LAST-MODIFIED:20231027T115406Z
UID:3697-1716854400-1717113599@tss-badoldesloe.de
SUMMARY:PRÜFUNG ESA/MSA Sprachpraktischer Prüfungsteil Englisch
DESCRIPTION:
URL:https://tss-badoldesloe.de/event/pruefungen-esa-msa-sprachpraktischer-pruefungsteil-englisch/
END:VEVENT
END:VCALENDAR