BEGIN:VCALENDAR
VERSION:2.0
PRODID:-//Theodor Storm Schule - ECPv6.0.1.1//NONSGML v1.0//EN
CALSCALE:GREGORIAN
METHOD:PUBLISH
X-WR-CALNAME:Theodor Storm Schule
X-ORIGINAL-URL:https://tss-badoldesloe.de
X-WR-CALDESC:Events for Theodor Storm Schule
REFRESH-INTERVAL;VALUE=DURATION:PT1H
X-Robots-Tag:noindex
X-PUBLISHED-TTL:PT1H
BEGIN:VTIMEZONE
TZID:Europe/Berlin
BEGIN:DAYLIGHT
TZOFFSETFROM:+0100
TZOFFSETTO:+0200
TZNAME:CEST
DTSTART:20240331T010000
END:DAYLIGHT
BEGIN:STANDARD
TZOFFSETFROM:+0200
TZOFFSETTO:+0100
TZNAME:CET
DTSTART:20241027T010000
END:STANDARD
END:VTIMEZONE
BEGIN:VEVENT
DTSTART;VALUE=DATE:20240720
DTEND;VALUE=DATE:20240902
DTSTAMP:20260422T023830
CREATED:20231027T120533Z
LAST-MODIFIED:20231027T120533Z
UID:3735-1721433600-1725235199@tss-badoldesloe.de
SUMMARY:Sommerferien 2024
DESCRIPTION:
URL:https://tss-badoldesloe.de/event/sommerferien-2024/
END:VEVENT
BEGIN:VEVENT
DTSTART;TZID=Europe/Berlin:20240902T083500
DTEND;TZID=Europe/Berlin:20240902T121500
DTSTAMP:20260422T023830
CREATED:20240719T081916Z
LAST-MODIFIED:20240719T081916Z
UID:4247-1725266100-1725279300@tss-badoldesloe.de
SUMMARY:1. Schultag nach den Sommerferien (2.-5. U-Std)
DESCRIPTION:
URL:https://tss-badoldesloe.de/event/1-schultag-nach-den-sommerferien-2-5-u-std/
END:VEVENT
BEGIN:VEVENT
DTSTART;TZID=Europe/Berlin:20240903T140000
DTEND;TZID=Europe/Berlin:20240903T180000
DTSTAMP:20260422T023830
CREATED:20240719T082249Z
LAST-MODIFIED:20240830T164046Z
UID:4251-1725372000-1725386400@tss-badoldesloe.de
SUMMARY:Einschulungsveranstaltungen (14:00 Uhr und 16:30 Uhr - entsprechend der Einladung)
DESCRIPTION:
URL:https://tss-badoldesloe.de/event/einschulungsveranstaltungen-1400-uhr-und-1630-uhr-entsprechend-der-einladung/
LOCATION:Aula A001\, asasasas\, Bad Oldesloe\, 23843\, Deutschland
END:VEVENT
BEGIN:VEVENT
DTSTART;VALUE=DATE:20240914
DTEND;VALUE=DATE:20240915
DTSTAMP:20260422T023830
CREATED:20240723T104707Z
LAST-MODIFIED:20240723T104707Z
UID:4253-1726272000-1726358399@tss-badoldesloe.de
SUMMARY:Geburtstag Theodor Storm (14.09.1817)
DESCRIPTION:www.storm-gesellschaft.de
URL:https://tss-badoldesloe.de/event/geburtstag-theodor-storm-14-09-1817/
END:VEVENT
BEGIN:VEVENT
DTSTART;TZID=Europe/Berlin:20240916T140000
DTEND;TZID=Europe/Berlin:20240919T153000
DTSTAMP:20260422T023830
CREATED:20240719T081631Z
LAST-MODIFIED:20240719T081631Z
UID:4243-1726495200-1726759800@tss-badoldesloe.de
SUMMARY:Beginn des OGT-Angebotes
DESCRIPTION:
URL:https://tss-badoldesloe.de/event/beginn-des-ogt-angebotes/
END:VEVENT
BEGIN:VEVENT
DTSTART;TZID=Europe/Berlin:20240919T190000
DTEND;TZID=Europe/Berlin:20240919T210000
DTSTAMP:20260422T023830
CREATED:20240719T081733Z
LAST-MODIFIED:20240719T081946Z
UID:4245-1726772400-1726779600@tss-badoldesloe.de
SUMMARY:Elternabende mit Wahlen der Klassenelternbeiräte
DESCRIPTION:JG 5\, 7\, 9\, 10\, FLEX8
URL:https://tss-badoldesloe.de/event/elternabende-mit-wahlen-der-klassenelternbeiraete/
END:VEVENT
BEGIN:VEVENT
DTSTART;TZID=Europe/Berlin:20240923T075000
DTEND;TZID=Europe/Berlin:20240927T130000
DTSTAMP:20260422T023830
CREATED:20240719T082029Z
LAST-MODIFIED:20240723T104925Z
UID:4249-1727077800-1727442000@tss-badoldesloe.de
SUMMARY:Vorhabenwoche vom 23.-27.09.2024
DESCRIPTION:(2.-6. U-Std + OGT)
URL:https://tss-badoldesloe.de/event/vorhabenwoche-vom-23-27-09-2024/
END:VEVENT
BEGIN:VEVENT
DTSTART;VALUE=DATE:20240926
DTEND;VALUE=DATE:20241018
DTSTAMP:20260422T023830
CREATED:20240723T105053Z
LAST-MODIFIED:20240723T105145Z
UID:4256-1727308800-1729209599@tss-badoldesloe.de
SUMMARY:FLEX9plus: Praktikum (26.09.-17.10.24)
DESCRIPTION:
URL:https://tss-badoldesloe.de/event/flex9plus-praktikum-26-09-17-10-24/
END:VEVENT
END:VCALENDAR