BEGIN:VCALENDAR
VERSION:2.0
PRODID:-//Theodor Storm Schule - ECPv6.0.1.1//NONSGML v1.0//EN
CALSCALE:GREGORIAN
METHOD:PUBLISH
X-WR-CALNAME:Theodor Storm Schule
X-ORIGINAL-URL:https://tss-badoldesloe.de
X-WR-CALDESC:Events for Theodor Storm Schule
REFRESH-INTERVAL;VALUE=DURATION:PT1H
X-Robots-Tag:noindex
X-PUBLISHED-TTL:PT1H
BEGIN:VTIMEZONE
TZID:Europe/Berlin
BEGIN:DAYLIGHT
TZOFFSETFROM:+0100
TZOFFSETTO:+0200
TZNAME:CEST
DTSTART:20240331T010000
END:DAYLIGHT
BEGIN:STANDARD
TZOFFSETFROM:+0200
TZOFFSETTO:+0100
TZNAME:CET
DTSTART:20241027T010000
END:STANDARD
BEGIN:DAYLIGHT
TZOFFSETFROM:+0100
TZOFFSETTO:+0200
TZNAME:CEST
DTSTART:20250330T010000
END:DAYLIGHT
BEGIN:STANDARD
TZOFFSETFROM:+0200
TZOFFSETTO:+0100
TZNAME:CET
DTSTART:20251026T010000
END:STANDARD
END:VTIMEZONE
BEGIN:VEVENT
DTSTART;TZID=Europe/Berlin:20241202T083500
DTEND;TZID=Europe/Berlin:20241202T121500
DTSTAMP:20260421T192713
CREATED:20240920T070632Z
LAST-MODIFIED:20240920T070632Z
UID:4504-1733128500-1733141700@tss-badoldesloe.de
SUMMARY:Weihnachtssportfest JG5+JG6
DESCRIPTION:
URL:https://tss-badoldesloe.de/event/weihnachtssportfest-jg5jg6/
END:VEVENT
BEGIN:VEVENT
DTSTART;TZID=Europe/Berlin:20241203T190000
DTEND;TZID=Europe/Berlin:20241203T210000
DTSTAMP:20260421T192713
CREATED:20241118T070839Z
LAST-MODIFIED:20241118T070951Z
UID:4587-1733252400-1733259600@tss-badoldesloe.de
SUMMARY:Schulelternbeirat Wahlversammlung
DESCRIPTION:Einladung Wahlversammlung Dezember 2024
URL:https://tss-badoldesloe.de/event/schulelternbeirat-wahlversammlung/
LOCATION:Aula A001\, asasasas\, Bad Oldesloe\, 23843\, Deutschland
END:VEVENT
BEGIN:VEVENT
DTSTART;TZID=Europe/Berlin:20241209T153000
DTEND;TZID=Europe/Berlin:20241209T180000
DTSTAMP:20260421T192713
CREATED:20240723T111223Z
LAST-MODIFIED:20240723T111223Z
UID:4291-1733758200-1733767200@tss-badoldesloe.de
SUMMARY:Lehrerkonferenz
DESCRIPTION:
URL:https://tss-badoldesloe.de/event/lehrerkonferenz/
END:VEVENT
BEGIN:VEVENT
DTSTART;TZID=Europe/Berlin:20241209T190000
DTEND;TZID=Europe/Berlin:20241209T200000
DTSTAMP:20260421T192713
CREATED:20241116T095840Z
LAST-MODIFIED:20241116T095840Z
UID:4584-1733770800-1733774400@tss-badoldesloe.de
SUMMARY:SCHULVEREIN Mitgliederversammlung mit Vorstandswahl oder Vereinsauflösung
DESCRIPTION:
URL:https://tss-badoldesloe.de/event/schulverein-mitgliederversammlung-mit-vorstandswahl-oder-vereinsaufloesung/
LOCATION:Raum D001\, Olivet-Allee 15\, Bad Oldesloe\, 23843\, Germany
END:VEVENT
BEGIN:VEVENT
DTSTART;TZID=Europe/Berlin:20241210T075000
DTEND;TZID=Europe/Berlin:20241210T130000
DTSTAMP:20260421T192713
CREATED:20240723T111534Z
LAST-MODIFIED:20240723T111534Z
UID:4295-1733817000-1733835600@tss-badoldesloe.de
SUMMARY:JG9\, JG10 + FLEX9plus: Projekttag I zur Projektarbeit
DESCRIPTION:
URL:https://tss-badoldesloe.de/event/jg9-jg10-flex9plus-projekttag-i-zur-projektarbeit/
END:VEVENT
BEGIN:VEVENT
DTSTART;TZID=Europe/Berlin:20241211T075000
DTEND;TZID=Europe/Berlin:20241211T130000
DTSTAMP:20260421T192713
CREATED:20240723T111614Z
LAST-MODIFIED:20240723T111614Z
UID:4297-1733903400-1733922000@tss-badoldesloe.de
SUMMARY:JG9\, JG10 + FLEX9plus: Projekttag II zur Projektarbeit
DESCRIPTION:
URL:https://tss-badoldesloe.de/event/jg9-jg10-flex9plus-projekttag-ii-zur-projektarbeit/
END:VEVENT
BEGIN:VEVENT
DTSTART;TZID=Europe/Berlin:20241217T080000
DTEND;TZID=Europe/Berlin:20241217T130000
DTSTAMP:20260421T192713
CREATED:20240723T111655Z
LAST-MODIFIED:20240723T111655Z
UID:4299-1734422400-1734440400@tss-badoldesloe.de
SUMMARY:TSS @ Peter-Paul-Kirche
DESCRIPTION:
URL:https://tss-badoldesloe.de/event/tss-peter-paul-kirche/
END:VEVENT
BEGIN:VEVENT
DTSTART;TZID=Europe/Berlin:20241218T080000
DTEND;TZID=Europe/Berlin:20241218T120000
DTSTAMP:20260421T192713
CREATED:20240920T070725Z
LAST-MODIFIED:20240920T070725Z
UID:4506-1734508800-1734523200@tss-badoldesloe.de
SUMMARY:Schüler-Lehrer-Volleyballturnier
DESCRIPTION:
URL:https://tss-badoldesloe.de/event/schueler-lehrer-volleyballturnier/
END:VEVENT
BEGIN:VEVENT
DTSTART;VALUE=DATE:20241219
DTEND;VALUE=DATE:20250108
DTSTAMP:20260421T192713
CREATED:20240723T111735Z
LAST-MODIFIED:20240723T111735Z
UID:4301-1734566400-1736294399@tss-badoldesloe.de
SUMMARY:Weihnachtsferien 2024/2025
DESCRIPTION:
URL:https://tss-badoldesloe.de/event/weihnachtsferien-2024-2025/
END:VEVENT
END:VCALENDAR