BEGIN:VCALENDAR
VERSION:2.0
PRODID:-//Theodor Storm Schule - ECPv6.0.1.1//NONSGML v1.0//EN
CALSCALE:GREGORIAN
METHOD:PUBLISH
X-ORIGINAL-URL:https://tss-badoldesloe.de
X-WR-CALDESC:Events for Theodor Storm Schule
REFRESH-INTERVAL;VALUE=DURATION:PT1H
X-Robots-Tag:noindex
X-PUBLISHED-TTL:PT1H
BEGIN:VTIMEZONE
TZID:Europe/Berlin
BEGIN:DAYLIGHT
TZOFFSETFROM:+0100
TZOFFSETTO:+0200
TZNAME:CEST
DTSTART:20250330T010000
END:DAYLIGHT
BEGIN:STANDARD
TZOFFSETFROM:+0200
TZOFFSETTO:+0100
TZNAME:CET
DTSTART:20251026T010000
END:STANDARD
END:VTIMEZONE
BEGIN:VEVENT
DTSTART;VALUE=DATE:20250203
DTEND;VALUE=DATE:20250204
DTSTAMP:20260421T180706
CREATED:20240723T112624Z
LAST-MODIFIED:20240723T112624Z
UID:4317-1738540800-1738627199@tss-badoldesloe.de
SUMMARY:variabler Ferientag (03.02.2025)
DESCRIPTION:
URL:https://tss-badoldesloe.de/event/variabler-ferientag-03-02-2025/
END:VEVENT
BEGIN:VEVENT
DTSTART;VALUE=DATE:20250204
DTEND;VALUE=DATE:20250315
DTSTAMP:20260421T180706
CREATED:20240723T112732Z
LAST-MODIFIED:20240723T112824Z
UID:4319-1738627200-1741996799@tss-badoldesloe.de
SUMMARY:Anmeldezeitfenster für Oldesloes flexible Übergangsphase 2025-2028
DESCRIPTION:Weitere Informationen finden Sie hier: \nFlex-Klassen – Theodor Storm Schule (tss-badoldesloe.de)
URL:https://tss-badoldesloe.de/event/anmeldezeitfenster-fuer-oldesloes-flexible-uebergangsphase-2025-2028/
END:VEVENT
BEGIN:VEVENT
DTSTART;VALUE=DATE:20250204
DTEND;VALUE=DATE:20250205
DTSTAMP:20260421T180706
CREATED:20250122T213849Z
LAST-MODIFIED:20250122T213849Z
UID:4810-1738627200-1738713599@tss-badoldesloe.de
SUMMARY:TSS-Tag (Kids sind zuhause)
DESCRIPTION:
URL:https://tss-badoldesloe.de/event/tss-tag-kids-sind-zuhause/
END:VEVENT
BEGIN:VEVENT
DTSTART;VALUE=DATE:20250205
DTEND;VALUE=DATE:20250301
DTSTAMP:20260421T180706
CREATED:20240723T112947Z
LAST-MODIFIED:20240723T112947Z
UID:4322-1738713600-1740787199@tss-badoldesloe.de
SUMMARY:individuelle Beratung der Grundschuleltern des neuen JG5 (05.02.-28.02.2025) - nach Terminvergabe
DESCRIPTION:
URL:https://tss-badoldesloe.de/event/individuelle-beratung-der-grundschuleltern-des-neuen-jg5-05-02-28-02-2025-nach-terminvergabe/
END:VEVENT
BEGIN:VEVENT
DTSTART;TZID=Europe/Berlin:20250210T160000
DTEND;TZID=Europe/Berlin:20250210T190000
DTSTAMP:20260421T180706
CREATED:20240723T113136Z
LAST-MODIFIED:20240723T113136Z
UID:4324-1739203200-1739214000@tss-badoldesloe.de
SUMMARY:Elternsprechtag mit Terminvergabe zwischen 16 Uhr und 19 Uhr
DESCRIPTION:
URL:https://tss-badoldesloe.de/event/elternsprechtag-mit-terminvergabe-zwischen-16-uhr-und-19-uhr/
END:VEVENT
BEGIN:VEVENT
DTSTART;TZID=Europe/Berlin:20250215T100000
DTEND;TZID=Europe/Berlin:20250215T130000
DTSTAMP:20260421T180706
CREATED:20240723T113229Z
LAST-MODIFIED:20240723T113229Z
UID:4326-1739613600-1739624400@tss-badoldesloe.de
SUMMARY:Tag der offenen Tür @ TSS von 10 Uhr bis 13 Uhr
DESCRIPTION:
URL:https://tss-badoldesloe.de/event/tag-der-offenen-tuer-tss-von-10-uhr-bis-13-uhr/
END:VEVENT
BEGIN:VEVENT
DTSTART;VALUE=DATE:20250217
DTEND;VALUE=DATE:20250308
DTSTAMP:20260421T180706
CREATED:20240723T113322Z
LAST-MODIFIED:20240723T113322Z
UID:4328-1739750400-1741391999@tss-badoldesloe.de
SUMMARY:VERA 8 Testzeitraum
DESCRIPTION:
URL:https://tss-badoldesloe.de/event/vera-8-testzeitraum/
END:VEVENT
BEGIN:VEVENT
DTSTART;VALUE=DATE:20250224
DTEND;VALUE=DATE:20250226
DTSTAMP:20260421T180706
CREATED:20240723T113616Z
LAST-MODIFIED:20250220T175420Z
UID:4332-1740355200-1740527999@tss-badoldesloe.de
SUMMARY:ESA / MSA Projektprüfungen
DESCRIPTION:Eigenlernzeit daheim
URL:https://tss-badoldesloe.de/event/esa-msa-projektpruefungen/
END:VEVENT
END:VCALENDAR