BEGIN:VCALENDAR
VERSION:2.0
PRODID:-//Theodor Storm Schule - ECPv6.0.1.1//NONSGML v1.0//EN
CALSCALE:GREGORIAN
METHOD:PUBLISH
X-ORIGINAL-URL:https://tss-badoldesloe.de
X-WR-CALDESC:Events for Theodor Storm Schule
REFRESH-INTERVAL;VALUE=DURATION:PT1H
X-Robots-Tag:noindex
X-PUBLISHED-TTL:PT1H
BEGIN:VTIMEZONE
TZID:Europe/Berlin
BEGIN:DAYLIGHT
TZOFFSETFROM:+0100
TZOFFSETTO:+0200
TZNAME:CEST
DTSTART:20250330T010000
END:DAYLIGHT
BEGIN:STANDARD
TZOFFSETFROM:+0200
TZOFFSETTO:+0100
TZNAME:CET
DTSTART:20251026T010000
END:STANDARD
END:VTIMEZONE
BEGIN:VEVENT
DTSTART;VALUE=DATE:20250204
DTEND;VALUE=DATE:20250315
DTSTAMP:20260421T150111
CREATED:20240723T112732Z
LAST-MODIFIED:20240723T112824Z
UID:4319-1738627200-1741996799@tss-badoldesloe.de
SUMMARY:Anmeldezeitfenster für Oldesloes flexible Übergangsphase 2025-2028
DESCRIPTION:Weitere Informationen finden Sie hier: \nFlex-Klassen – Theodor Storm Schule (tss-badoldesloe.de)
URL:https://tss-badoldesloe.de/event/anmeldezeitfenster-fuer-oldesloes-flexible-uebergangsphase-2025-2028/
END:VEVENT
BEGIN:VEVENT
DTSTART;VALUE=DATE:20250217
DTEND;VALUE=DATE:20250308
DTSTAMP:20260421T150111
CREATED:20240723T113322Z
LAST-MODIFIED:20240723T113322Z
UID:4328-1739750400-1741391999@tss-badoldesloe.de
SUMMARY:VERA 8 Testzeitraum
DESCRIPTION:
URL:https://tss-badoldesloe.de/event/vera-8-testzeitraum/
END:VEVENT
BEGIN:VEVENT
DTSTART;VALUE=DATE:20250303
DTEND;VALUE=DATE:20250313
DTSTAMP:20260421T150111
CREATED:20240723T113838Z
LAST-MODIFIED:20240723T113838Z
UID:4334-1740960000-1741823999@tss-badoldesloe.de
SUMMARY:Anmeldezeitfenster neuer 5. Jahrgang für SJ 2025/2026
DESCRIPTION:Verfahren A und B entsprechend der\, in der Grundschule erhaltenen\, Unterlagen.
URL:https://tss-badoldesloe.de/event/anmeldezeitfenster-neuer-5-jahrgang-fuer-sj-2025-2026/
END:VEVENT
BEGIN:VEVENT
DTSTART;TZID=Europe/Berlin:20250304T075000
DTEND;TZID=Europe/Berlin:20250304T130000
DTSTAMP:20260421T150111
CREATED:20240920T070841Z
LAST-MODIFIED:20240920T070841Z
UID:4508-1741074600-1741093200@tss-badoldesloe.de
SUMMARY:Völkerballturnier
DESCRIPTION:
URL:https://tss-badoldesloe.de/event/voelkerballturnier/
END:VEVENT
BEGIN:VEVENT
DTSTART;TZID=Europe/Berlin:20250310T153000
DTEND;TZID=Europe/Berlin:20250310T180000
DTSTAMP:20260421T150111
CREATED:20240723T113918Z
LAST-MODIFIED:20240723T113918Z
UID:4336-1741620600-1741629600@tss-badoldesloe.de
SUMMARY:Lehrerkonferenz
DESCRIPTION:
URL:https://tss-badoldesloe.de/event/lehrerkonferenz-3/
END:VEVENT
BEGIN:VEVENT
DTSTART;VALUE=DATE:20250319
DTEND;VALUE=DATE:20250320
DTSTAMP:20260421T150111
CREATED:20240723T114007Z
LAST-MODIFIED:20240723T114007Z
UID:4338-1742342400-1742428799@tss-badoldesloe.de
SUMMARY:Aufnahmebescheide neuer JG5 (Erstwünsche)
DESCRIPTION:
URL:https://tss-badoldesloe.de/event/aufnahmebescheide-neuer-jg5-erstwuensche/
END:VEVENT
BEGIN:VEVENT
DTSTART;VALUE=DATE:20250324
DTEND;VALUE=DATE:20250325
DTSTAMP:20260421T150111
CREATED:20240723T114220Z
LAST-MODIFIED:20241112T091744Z
UID:4344-1742774400-1742860799@tss-badoldesloe.de
SUMMARY:Schulentwicklungstag II = unterrichtsfrei für alle Schüler/-innen
DESCRIPTION:
URL:https://tss-badoldesloe.de/event/schulentwicklungstag-ii-eigenlernzeit-zu-hause-fuer-alle-schueler-innen/
END:VEVENT
BEGIN:VEVENT
DTSTART;VALUE=DATE:20250324
DTEND;VALUE=DATE:20250405
DTSTAMP:20260421T150111
CREATED:20240723T114328Z
LAST-MODIFIED:20240723T114328Z
UID:4346-1742774400-1743811199@tss-badoldesloe.de
SUMMARY:FLEX-Praktikum FLEX8 (24.03.-04.04.2025)
DESCRIPTION:
URL:https://tss-badoldesloe.de/event/flex-praktikum-flex8-24-03-04-04-2025/
END:VEVENT
BEGIN:VEVENT
DTSTART;VALUE=DATE:20250326
DTEND;VALUE=DATE:20250327
DTSTAMP:20260421T150111
CREATED:20240723T114033Z
LAST-MODIFIED:20240723T114033Z
UID:4340-1742947200-1743033599@tss-badoldesloe.de
SUMMARY:Aufnahmebescheide neuer JG5 (Zweitwünsche)
DESCRIPTION:
URL:https://tss-badoldesloe.de/event/aufnahmebescheide-neuer-jg5-zweitwuensche/
END:VEVENT
BEGIN:VEVENT
DTSTART;VALUE=DATE:20250331
DTEND;VALUE=DATE:20250411
DTSTAMP:20260421T150111
CREATED:20240723T114434Z
LAST-MODIFIED:20240723T114434Z
UID:4348-1743379200-1744329599@tss-badoldesloe.de
SUMMARY:Praktikum JG8 (31.03.-10.04.2025)
DESCRIPTION:
URL:https://tss-badoldesloe.de/event/praktikum-jg8-31-03-10-04-2025/
END:VEVENT
BEGIN:VEVENT
DTSTART;VALUE=DATE:20250331
DTEND;VALUE=DATE:20250405
DTSTAMP:20260421T150111
CREATED:20240723T114531Z
LAST-MODIFIED:20240723T114531Z
UID:4350-1743379200-1743811199@tss-badoldesloe.de
SUMMARY:ESA / MSA: mündliche HESP (Zeitraum)
DESCRIPTION:
URL:https://tss-badoldesloe.de/event/esa-msa-muendliche-hesp-zeitraum/
END:VEVENT
END:VCALENDAR