BEGIN:VCALENDAR
VERSION:2.0
PRODID:-//Theodor Storm Schule - ECPv6.0.1.1//NONSGML v1.0//EN
CALSCALE:GREGORIAN
METHOD:PUBLISH
X-WR-CALNAME:Theodor Storm Schule
X-ORIGINAL-URL:https://tss-badoldesloe.de
X-WR-CALDESC:Events for Theodor Storm Schule
REFRESH-INTERVAL;VALUE=DURATION:PT1H
X-Robots-Tag:noindex
X-PUBLISHED-TTL:PT1H
BEGIN:VTIMEZONE
TZID:Europe/Berlin
BEGIN:DAYLIGHT
TZOFFSETFROM:+0100
TZOFFSETTO:+0200
TZNAME:CEST
DTSTART:20250330T010000
END:DAYLIGHT
BEGIN:STANDARD
TZOFFSETFROM:+0200
TZOFFSETTO:+0100
TZNAME:CET
DTSTART:20251026T010000
END:STANDARD
END:VTIMEZONE
BEGIN:VEVENT
DTSTART;VALUE=DATE:20250324
DTEND;VALUE=DATE:20250405
DTSTAMP:20260421T133532
CREATED:20240723T114328Z
LAST-MODIFIED:20240723T114328Z
UID:4346-1742774400-1743811199@tss-badoldesloe.de
SUMMARY:FLEX-Praktikum FLEX8 (24.03.-04.04.2025)
DESCRIPTION:
URL:https://tss-badoldesloe.de/event/flex-praktikum-flex8-24-03-04-04-2025/
END:VEVENT
BEGIN:VEVENT
DTSTART;VALUE=DATE:20250331
DTEND;VALUE=DATE:20250411
DTSTAMP:20260421T133532
CREATED:20240723T114434Z
LAST-MODIFIED:20240723T114434Z
UID:4348-1743379200-1744329599@tss-badoldesloe.de
SUMMARY:Praktikum JG8 (31.03.-10.04.2025)
DESCRIPTION:
URL:https://tss-badoldesloe.de/event/praktikum-jg8-31-03-10-04-2025/
END:VEVENT
BEGIN:VEVENT
DTSTART;VALUE=DATE:20250331
DTEND;VALUE=DATE:20250405
DTSTAMP:20260421T133532
CREATED:20240723T114531Z
LAST-MODIFIED:20240723T114531Z
UID:4350-1743379200-1743811199@tss-badoldesloe.de
SUMMARY:ESA / MSA: mündliche HESP (Zeitraum)
DESCRIPTION:
URL:https://tss-badoldesloe.de/event/esa-msa-muendliche-hesp-zeitraum/
END:VEVENT
BEGIN:VEVENT
DTSTART;VALUE=DATE:20250402
DTEND;VALUE=DATE:20250403
DTSTAMP:20260421T133532
CREATED:20240723T114059Z
LAST-MODIFIED:20240723T114059Z
UID:4342-1743552000-1743638399@tss-badoldesloe.de
SUMMARY:Aufnahmebescheide neuer JG5 (Drittwünsche)
DESCRIPTION:
URL:https://tss-badoldesloe.de/event/aufnahmebescheide-neuer-jg5-drittwuensche/
END:VEVENT
BEGIN:VEVENT
DTSTART;VALUE=DATE:20250403
DTEND;VALUE=DATE:20250404
DTSTAMP:20260421T133532
CREATED:20240723T114617Z
LAST-MODIFIED:20240723T114617Z
UID:4352-1743638400-1743724799@tss-badoldesloe.de
SUMMARY:Boys-and-Girls-Day
DESCRIPTION:
URL:https://tss-badoldesloe.de/event/boys-and-girls-day-2/
END:VEVENT
BEGIN:VEVENT
DTSTART;VALUE=DATE:20250407
DTEND;VALUE=DATE:20250411
DTSTAMP:20260421T133532
CREATED:20240723T114705Z
LAST-MODIFIED:20240723T114705Z
UID:4354-1743984000-1744329599@tss-badoldesloe.de
SUMMARY:Vorhabenwoche (2.-6. U-Std + OGT)
DESCRIPTION:
URL:https://tss-badoldesloe.de/event/vorhabenwoche-2-6-u-std-ogt/
END:VEVENT
BEGIN:VEVENT
DTSTART;TZID=Europe/Berlin:20250407T080000
DTEND;TZID=Europe/Berlin:20250408T130000
DTSTAMP:20260421T133532
CREATED:20240723T114813Z
LAST-MODIFIED:20240723T114813Z
UID:4356-1744012800-1744117200@tss-badoldesloe.de
SUMMARY:JG8: Prävention (Sucht)
DESCRIPTION:
URL:https://tss-badoldesloe.de/event/jg8-praevention-sucht/
END:VEVENT
BEGIN:VEVENT
DTSTART;TZID=Europe/Berlin:20250410T080000
DTEND;TZID=Europe/Berlin:20250410T160000
DTSTAMP:20260421T133532
CREATED:20240723T114900Z
LAST-MODIFIED:20240723T114900Z
UID:4358-1744272000-1744300800@tss-badoldesloe.de
SUMMARY:FLEX9plus: letzter wPt
DESCRIPTION:
URL:https://tss-badoldesloe.de/event/flex9plus-letzter-wpt/
END:VEVENT
BEGIN:VEVENT
DTSTART;VALUE=DATE:20250411
DTEND;VALUE=DATE:20250428
DTSTAMP:20260421T133532
CREATED:20240723T114940Z
LAST-MODIFIED:20240723T114940Z
UID:4360-1744329600-1745798399@tss-badoldesloe.de
SUMMARY:Osterferien 2025
DESCRIPTION:
URL:https://tss-badoldesloe.de/event/osterferien-2025/
END:VEVENT
BEGIN:VEVENT
DTSTART;VALUE=DATE:20250429
DTEND;VALUE=DATE:20250430
DTSTAMP:20260421T133532
CREATED:20240723T115025Z
LAST-MODIFIED:20240723T115025Z
UID:4362-1745884800-1745971199@tss-badoldesloe.de
SUMMARY:ESA / MSA: schriftliche HESP
DESCRIPTION:
URL:https://tss-badoldesloe.de/event/esa-msa-schriftliche-hesp/
END:VEVENT
END:VCALENDAR