BEGIN:VCALENDAR
VERSION:2.0
PRODID:-//Theodor Storm Schule - ECPv6.0.1.1//NONSGML v1.0//EN
CALSCALE:GREGORIAN
METHOD:PUBLISH
X-WR-CALNAME:Theodor Storm Schule
X-ORIGINAL-URL:https://tss-badoldesloe.de
X-WR-CALDESC:Events for Theodor Storm Schule
REFRESH-INTERVAL;VALUE=DURATION:PT1H
X-Robots-Tag:noindex
X-PUBLISHED-TTL:PT1H
BEGIN:VTIMEZONE
TZID:Europe/Berlin
BEGIN:DAYLIGHT
TZOFFSETFROM:+0100
TZOFFSETTO:+0200
TZNAME:CEST
DTSTART:20250330T010000
END:DAYLIGHT
BEGIN:STANDARD
TZOFFSETFROM:+0200
TZOFFSETTO:+0100
TZNAME:CET
DTSTART:20251026T010000
END:STANDARD
END:VTIMEZONE
BEGIN:VEVENT
DTSTART;VALUE=DATE:20250501
DTEND;VALUE=DATE:20250502
DTSTAMP:20260421T121048
CREATED:20240723T115055Z
LAST-MODIFIED:20240723T115055Z
UID:4364-1746057600-1746143999@tss-badoldesloe.de
SUMMARY:1.-Mai-Feiertag
DESCRIPTION:
URL:https://tss-badoldesloe.de/event/1-mai-feiertag-2/
END:VEVENT
BEGIN:VEVENT
DTSTART;TZID=Europe/Berlin:20250502T075000
DTEND;TZID=Europe/Berlin:20250502T135500
DTSTAMP:20260421T121048
CREATED:20240723T115201Z
LAST-MODIFIED:20240723T115201Z
UID:4366-1746172200-1746194100@tss-badoldesloe.de
SUMMARY:(am 2. Mai ist Schule)
DESCRIPTION:
URL:https://tss-badoldesloe.de/event/am-2-mai-ist-schule/
END:VEVENT
BEGIN:VEVENT
DTSTART;VALUE=DATE:20250506
DTEND;VALUE=DATE:20250507
DTSTAMP:20260421T121048
CREATED:20240723T115242Z
LAST-MODIFIED:20240723T115242Z
UID:4368-1746489600-1746575999@tss-badoldesloe.de
SUMMARY:ESA Englisch / MSA Deutsch
DESCRIPTION:
URL:https://tss-badoldesloe.de/event/esa-englisch-msa-deutsch/
END:VEVENT
BEGIN:VEVENT
DTSTART;VALUE=DATE:20250508
DTEND;VALUE=DATE:20250509
DTSTAMP:20260421T121048
CREATED:20240723T115317Z
LAST-MODIFIED:20240723T115317Z
UID:4370-1746662400-1746748799@tss-badoldesloe.de
SUMMARY:ESA Deutsch / MSA Mathematik
DESCRIPTION:
URL:https://tss-badoldesloe.de/event/esa-deutsch-msa-mathematik/
END:VEVENT
BEGIN:VEVENT
DTSTART;TZID=Europe/Berlin:20250509T080000
DTEND;TZID=Europe/Berlin:20250509T140000
DTSTAMP:20260421T121048
CREATED:20240920T070938Z
LAST-MODIFIED:20240920T070938Z
UID:4510-1746777600-1746799200@tss-badoldesloe.de
SUMMARY:Staffelmarathon
DESCRIPTION:
URL:https://tss-badoldesloe.de/event/staffelmarathon/
END:VEVENT
BEGIN:VEVENT
DTSTART;VALUE=DATE:20250512
DTEND;VALUE=DATE:20250513
DTSTAMP:20260421T121048
CREATED:20240723T115424Z
LAST-MODIFIED:20241112T091714Z
UID:4373-1747008000-1747094399@tss-badoldesloe.de
SUMMARY:Schulentwicklungstag III = unterrichtsfrei alle Schüler/-innen
DESCRIPTION:
URL:https://tss-badoldesloe.de/event/schulentwicklungstag-iii-eigenlernzeit-zu-hause-fuer-alle-schueler-innen/
END:VEVENT
BEGIN:VEVENT
DTSTART;VALUE=DATE:20250513
DTEND;VALUE=DATE:20250514
DTSTAMP:20260421T121048
CREATED:20240723T115501Z
LAST-MODIFIED:20240723T115501Z
UID:4375-1747094400-1747180799@tss-badoldesloe.de
SUMMARY:ESA Mathematik / MSA Englisch
DESCRIPTION:
URL:https://tss-badoldesloe.de/event/esa-mathematik-msa-englisch/
END:VEVENT
BEGIN:VEVENT
DTSTART;TZID=Europe/Berlin:20250516T075000
DTEND;TZID=Europe/Berlin:20250516T130000
DTSTAMP:20260421T121048
CREATED:20240920T071057Z
LAST-MODIFIED:20240920T071057Z
UID:4512-1747381800-1747400400@tss-badoldesloe.de
SUMMARY:Fußballturnier JG5-8
DESCRIPTION:
URL:https://tss-badoldesloe.de/event/fussballturnier-jg5-8/
END:VEVENT
BEGIN:VEVENT
DTSTART;VALUE=DATE:20250520
DTEND;VALUE=DATE:20250521
DTSTAMP:20260421T121048
CREATED:20240723T115601Z
LAST-MODIFIED:20240723T115601Z
UID:4377-1747699200-1747785599@tss-badoldesloe.de
SUMMARY:ESA / MSA Sprachpraktischer Prüfungsteil Englisch (Zeitraum)
DESCRIPTION:
URL:https://tss-badoldesloe.de/event/esa-msa-sprachpraktischer-pruefungsteil-englisch-zeitraum/
END:VEVENT
BEGIN:VEVENT
DTSTART;TZID=Europe/Berlin:20250526T153000
DTEND;TZID=Europe/Berlin:20250526T180000
DTSTAMP:20260421T121048
CREATED:20240723T115643Z
LAST-MODIFIED:20240723T115643Z
UID:4379-1748273400-1748282400@tss-badoldesloe.de
SUMMARY:Lehrerkonferenz
DESCRIPTION:
URL:https://tss-badoldesloe.de/event/lehrerkonferenz-4/
END:VEVENT
BEGIN:VEVENT
DTSTART;TZID=Europe/Berlin:20250527T081500
DTEND;TZID=Europe/Berlin:20250527T153000
DTSTAMP:20260421T121048
CREATED:20250402T063952Z
LAST-MODIFIED:20250402T064002Z
UID:4976-1748333700-1748359800@tss-badoldesloe.de
SUMMARY:Schulausflug Hansa-Park
DESCRIPTION:Details über die Klassenleitung zu Hin- und Rückreise sowie zu den Kosten beachten.
URL:https://tss-badoldesloe.de/event/schulausflug-hansa-park/
END:VEVENT
BEGIN:VEVENT
DTSTART;VALUE=DATE:20250528
DTEND;VALUE=DATE:20250529
DTSTAMP:20260421T121048
CREATED:20240723T115720Z
LAST-MODIFIED:20240723T115720Z
UID:4381-1748390400-1748476799@tss-badoldesloe.de
SUMMARY:variabler Ferientag
DESCRIPTION:
URL:https://tss-badoldesloe.de/event/variabler-ferientag/
END:VEVENT
BEGIN:VEVENT
DTSTART;VALUE=DATE:20250529
DTEND;VALUE=DATE:20250530
DTSTAMP:20260421T121048
CREATED:20240723T115750Z
LAST-MODIFIED:20240723T115750Z
UID:4383-1748476800-1748563199@tss-badoldesloe.de
SUMMARY:Christi-Himmelfahrt-Feiertag
DESCRIPTION:
URL:https://tss-badoldesloe.de/event/christi-himmelfahrt-feiertag/
END:VEVENT
BEGIN:VEVENT
DTSTART;VALUE=DATE:20250530
DTEND;VALUE=DATE:20250531
DTSTAMP:20260421T121048
CREATED:20240723T115812Z
LAST-MODIFIED:20240723T115812Z
UID:4385-1748563200-1748649599@tss-badoldesloe.de
SUMMARY:Ferientag
DESCRIPTION:
URL:https://tss-badoldesloe.de/event/ferientag-2/
END:VEVENT
END:VCALENDAR