BEGIN:VCALENDAR
VERSION:2.0
PRODID:-//Theodor Storm Schule - ECPv6.0.1.1//NONSGML v1.0//EN
CALSCALE:GREGORIAN
METHOD:PUBLISH
X-WR-CALNAME:Theodor Storm Schule
X-ORIGINAL-URL:https://tss-badoldesloe.de
X-WR-CALDESC:Events for Theodor Storm Schule
REFRESH-INTERVAL;VALUE=DURATION:PT1H
X-Robots-Tag:noindex
X-PUBLISHED-TTL:PT1H
BEGIN:VTIMEZONE
TZID:Europe/Berlin
BEGIN:DAYLIGHT
TZOFFSETFROM:+0100
TZOFFSETTO:+0200
TZNAME:CEST
DTSTART:20250330T010000
END:DAYLIGHT
BEGIN:STANDARD
TZOFFSETFROM:+0200
TZOFFSETTO:+0100
TZNAME:CET
DTSTART:20251026T010000
END:STANDARD
END:VTIMEZONE
BEGIN:VEVENT
DTSTART;VALUE=DATE:20250601
DTEND;VALUE=DATE:20250602
DTSTAMP:20260421T110249
CREATED:20240723T115841Z
LAST-MODIFIED:20240723T115841Z
UID:4387-1748736000-1748822399@tss-badoldesloe.de
SUMMARY:Kindertag :-)
DESCRIPTION:
URL:https://tss-badoldesloe.de/event/kindertag/
END:VEVENT
BEGIN:VEVENT
DTSTART;VALUE=DATE:20250602
DTEND;VALUE=DATE:20250603
DTSTAMP:20260421T110249
CREATED:20240723T115918Z
LAST-MODIFIED:20240723T115918Z
UID:4389-1748822400-1748908799@tss-badoldesloe.de
SUMMARY:ESA / MSA Nachschreibtermin Deutsch
DESCRIPTION:
URL:https://tss-badoldesloe.de/event/esa-msa-nachschreibtermin-deutsch/
END:VEVENT
BEGIN:VEVENT
DTSTART;VALUE=DATE:20250603
DTEND;VALUE=DATE:20250604
DTSTAMP:20260421T110249
CREATED:20240723T115946Z
LAST-MODIFIED:20240723T115946Z
UID:4391-1748908800-1748995199@tss-badoldesloe.de
SUMMARY:ESA / MSA Nachschreibtermin Englisch
DESCRIPTION:
URL:https://tss-badoldesloe.de/event/esa-msa-nachschreibtermin-englisch/
END:VEVENT
BEGIN:VEVENT
DTSTART;VALUE=DATE:20250604
DTEND;VALUE=DATE:20250607
DTSTAMP:20260421T110249
CREATED:20240723T120057Z
LAST-MODIFIED:20240723T120057Z
UID:4395-1748995200-1749254399@tss-badoldesloe.de
SUMMARY:ESA / MSA: 2. Termin Sprachpraktischer Prüfungsteil Englisch
DESCRIPTION:
URL:https://tss-badoldesloe.de/event/esa-msa-2-termin-sprachpraktischer-pruefungsteil-englisch/
END:VEVENT
BEGIN:VEVENT
DTSTART;VALUE=DATE:20250605
DTEND;VALUE=DATE:20250606
DTSTAMP:20260421T110249
CREATED:20240723T120020Z
LAST-MODIFIED:20240723T120020Z
UID:4393-1749081600-1749167999@tss-badoldesloe.de
SUMMARY:ESA / MSA Nachschreibtermin Mathematik
DESCRIPTION:
URL:https://tss-badoldesloe.de/event/esa-msa-nachschreibtermin-mathematik/
END:VEVENT
BEGIN:VEVENT
DTSTART;TZID=Europe/Berlin:20250606T121500
DTEND;TZID=Europe/Berlin:20250606T140000
DTSTAMP:20260421T110249
CREATED:20240723T120147Z
LAST-MODIFIED:20240723T120147Z
UID:4397-1749212100-1749218400@tss-badoldesloe.de
SUMMARY:Prüfungsausschuss I
DESCRIPTION:
URL:https://tss-badoldesloe.de/event/pruefungsausschuss-i/
END:VEVENT
BEGIN:VEVENT
DTSTART;VALUE=DATE:20250609
DTEND;VALUE=DATE:20250610
DTSTAMP:20260421T110249
CREATED:20240723T120220Z
LAST-MODIFIED:20240723T120220Z
UID:4399-1749427200-1749513599@tss-badoldesloe.de
SUMMARY:Pfingstmontag-Feiertag
DESCRIPTION:
URL:https://tss-badoldesloe.de/event/pfingstmontag-feiertag/
END:VEVENT
BEGIN:VEVENT
DTSTART;VALUE=DATE:20250610
DTEND;VALUE=DATE:20250611
DTSTAMP:20260421T110249
CREATED:20240723T120243Z
LAST-MODIFIED:20240723T120243Z
UID:4401-1749513600-1749599999@tss-badoldesloe.de
SUMMARY:variabler Ferientag
DESCRIPTION:
URL:https://tss-badoldesloe.de/event/variabler-ferientag-2/
END:VEVENT
BEGIN:VEVENT
DTSTART;TZID=Europe/Berlin:20250611T190000
DTEND;TZID=Europe/Berlin:20250611T210000
DTSTAMP:20260421T110249
CREATED:20240723T120332Z
LAST-MODIFIED:20240723T120332Z
UID:4403-1749668400-1749675600@tss-badoldesloe.de
SUMMARY:JG6: WPU-Info-Elternabend mit anschließenden Klassenelternabenden
DESCRIPTION:
URL:https://tss-badoldesloe.de/event/jg6-wpu-info-elternabend-mit-anschliessenden-klassenelternabenden/
END:VEVENT
BEGIN:VEVENT
DTSTART;TZID=Europe/Berlin:20250612T075000
DTEND;TZID=Europe/Berlin:20250612T092000
DTSTAMP:20260421T110249
CREATED:20240723T120438Z
LAST-MODIFIED:20240723T120438Z
UID:4405-1749714600-1749720000@tss-badoldesloe.de
SUMMARY:JG9/10+FLEX9plus / ESA / MSA: Verkündung Vor- und Prüfungsnoten sowie Verpflichtung zur Mündlichen Prüfung\, Ausgabe Wahlzettel Mündliche Prüfungsfächer
DESCRIPTION:
URL:https://tss-badoldesloe.de/event/jg9-10flex9plus-esa-msa-verkuendung-vor-und-pruefungsnoten-sowie-verpflichtung-zur-muendlichen-pruefung-ausgabe-wahlzettel-muendliche-pruefungsfaecher/
END:VEVENT
BEGIN:VEVENT
DTSTART;TZID=Europe/Berlin:20250612T094000
DTEND;TZID=Europe/Berlin:20250612T111000
DTSTAMP:20260421T110249
CREATED:20240723T120547Z
LAST-MODIFIED:20240723T120547Z
UID:4407-1749721200-1749726600@tss-badoldesloe.de
SUMMARY:JG9: Beginn fakultativer Unterricht / Zusammenlegung der MSA-/AHR-Schüler/-innen in gemeinsame Lerngruppen
DESCRIPTION:
URL:https://tss-badoldesloe.de/event/jg9-beginn-fakultativer-unterricht-zusammenlegung-der-msa-ahr-schueler-innen-in-gemeinsame-lerngruppen/
END:VEVENT
BEGIN:VEVENT
DTSTART;TZID=Europe/Berlin:20250616T075000
DTEND;TZID=Europe/Berlin:20250616T113000
DTSTAMP:20260421T110249
CREATED:20240723T120707Z
LAST-MODIFIED:20240723T120707Z
UID:4409-1750060200-1750073400@tss-badoldesloe.de
SUMMARY:JG9/10+FLEX9plus / ESA / MSA: Abgabe der Wahlzettel zu Mündlichen Prüfungsfächern bei Klassenlehrkraft
DESCRIPTION:
URL:https://tss-badoldesloe.de/event/jg9-10flex9plus-esa-msa-abgabe-der-wahlzettel-zu-muendlichen-pruefungsfaechern-bei-klassenlehrkraft/
END:VEVENT
BEGIN:VEVENT
DTSTART;TZID=Europe/Berlin:20250616T140000
DTEND;TZID=Europe/Berlin:20250616T153000
DTSTAMP:20260421T110249
CREATED:20240723T120806Z
LAST-MODIFIED:20240723T120806Z
UID:4411-1750082400-1750087800@tss-badoldesloe.de
SUMMARY:Prüfungsausschuss II
DESCRIPTION:
URL:https://tss-badoldesloe.de/event/pruefungsausschuss-ii/
END:VEVENT
BEGIN:VEVENT
DTSTART;TZID=Europe/Berlin:20250616T190000
DTEND;TZID=Europe/Berlin:20250616T210000
DTSTAMP:20260421T110249
CREATED:20240723T120846Z
LAST-MODIFIED:20240723T120846Z
UID:4413-1750100400-1750107600@tss-badoldesloe.de
SUMMARY:Schulkonferenz
DESCRIPTION:
URL:https://tss-badoldesloe.de/event/schulkonferenz-3/
END:VEVENT
BEGIN:VEVENT
DTSTART;VALUE=DATE:20250618
DTEND;VALUE=DATE:20250619
DTSTAMP:20260421T110249
CREATED:20240920T071148Z
LAST-MODIFIED:20240920T071148Z
UID:4514-1750204800-1750291199@tss-badoldesloe.de
SUMMARY:Kieler Woche Lauf
DESCRIPTION:
URL:https://tss-badoldesloe.de/event/kieler-woche-lauf/
END:VEVENT
BEGIN:VEVENT
DTSTART;VALUE=DATE:20250623
DTEND;VALUE=DATE:20250624
DTSTAMP:20260421T110249
CREATED:20240723T120950Z
LAST-MODIFIED:20240723T120950Z
UID:4415-1750636800-1750723199@tss-badoldesloe.de
SUMMARY:ESA / MSA: Mündliche Prüfungen = restliche Schule Eigenlernzeit daheim
DESCRIPTION:
URL:https://tss-badoldesloe.de/event/esa-msa-muendliche-pruefungen-restliche-schule-eigenlernzeit-daheim/
END:VEVENT
BEGIN:VEVENT
DTSTART;TZID=Europe/Berlin:20250623T140000
DTEND;TZID=Europe/Berlin:20250623T153000
DTSTAMP:20260421T110249
CREATED:20240723T121049Z
LAST-MODIFIED:20240723T121049Z
UID:4417-1750687200-1750692600@tss-badoldesloe.de
SUMMARY:Prüfungsausschuss III
DESCRIPTION:
URL:https://tss-badoldesloe.de/event/pruefungsausschuss-iii/
END:VEVENT
BEGIN:VEVENT
DTSTART;TZID=Europe/Berlin:20250626T080000
DTEND;TZID=Europe/Berlin:20250626T140000
DTSTAMP:20260421T110249
CREATED:20240920T071234Z
LAST-MODIFIED:20240920T071234Z
UID:4516-1750924800-1750946400@tss-badoldesloe.de
SUMMARY:Bundesjugendspiele
DESCRIPTION:
URL:https://tss-badoldesloe.de/event/bundesjugendspiele/
END:VEVENT
BEGIN:VEVENT
DTSTART;VALUE=DATE:20250630
DTEND;VALUE=DATE:20250719
DTSTAMP:20260421T110249
CREATED:20240723T121148Z
LAST-MODIFIED:20240723T121148Z
UID:4419-1751241600-1752883199@tss-badoldesloe.de
SUMMARY:FLEX-Praktikum FLEX9 (30.06.-18.07.2025)
DESCRIPTION:
URL:https://tss-badoldesloe.de/event/flex-praktikum-flex9-30-06-18-07-2025/
END:VEVENT
END:VCALENDAR